BEGIN:VCALENDAR
VERSION:2.0
PRODID:Imitheme.com 
BEGIN:VEVENT
UID:20190301T1727371516599890
DTSTAMP;TZID=UTC:20190301T172737
DTSTART;TZID=UTC:20190303T000000
DTEND;TZID=UTC:20190203T000000
SUMMARY:Youth Service
LOCATION:DBUC
DESCRIPTION:The first Youth Service for the year will be at the Deception Bay Church. Please come along and worship with our Youth Group. Time TBA
END:VEVENT
END:VCALENDAR
