BEGIN:VCALENDAR
VERSION:2.0
PRODID:Imitheme.com 
BEGIN:VEVENT
UID:20190301T172519568814290
DTSTAMP;TZID=UTC:20190301T172519
DTSTART;TZID=UTC:20190224T150000
DTEND;TZID=UTC:20190728T170000
SUMMARY:Unlocking the Bible Series
LOCATION:DBUC
DESCRIPTION:Commencing 24th February 3 -5 pm. The afternoon will start with a DVD bible teaching\, followed by afternoon tea and discussion / fellowship. This is a series by Rev David Pawson and gives an overview of each book of the New Testament. Come along and grow in your Christian faith and your understanding of the Bible.
END:VEVENT
END:VCALENDAR
