BEGIN:VCALENDAR
VERSION:2.0
PRODID:Imitheme.com 
BEGIN:VEVENT
UID:20190301T1726361214621676
DTSTAMP;TZID=UTC:20190301T172636
DTSTART;TZID=UTC:20190301T235900
DTEND;TZID=UTC:20190301T235900
SUMMARY:Youth Service
LOCATION:
DESCRIPTION:The first Youth Service for the year will be at the Deception Bay Church. Please come along and worship with our youth. Time TBA
END:VEVENT
END:VCALENDAR
