BEGIN:VCALENDAR
VERSION:2.0
PRODID:Imitheme.com 
BEGIN:VEVENT
UID:20190301T173407462207149
DTSTAMP;TZID=UTC:20190301T173407
DTSTART;TZID=UTC:20190210T173000
DTEND;TZID=UTC:20191208T200000
SUMMARY:Fellowship Dinner
LOCATION:DBUC
DESCRIPTION:Fellowship Dinner every second Sunday of the month. Just bring a plate of food to share and enjoy the company!
END:VEVENT
END:VCALENDAR
