BEGIN:VCALENDAR
VERSION:2.0
PRODID:Imitheme.com
BEGIN:VEVENT
UID:20190301T172749-808653778
DTSTAMP:20190301T172749
DTSTART:20190303T000000Z
DTEND:20190203T000000Z
SUMMARY:Youth Service
LOCATION:DBUC
DESCRIPTION: The first Youth Service for the year will be at the Deception Bay Church.

Please come along and worship with our Youth Group.

Time TBA
END:VEVENT
END:VCALENDAR
