BEGIN:VCALENDAR
VERSION:2.0
PRODID:Imitheme.com
BEGIN:VEVENT
UID:20190301T172649-1813503488
DTSTAMP:20190301T172649
DTSTART:20190301T235900Z
DTEND:20190301T235900Z
SUMMARY:Youth Service
LOCATION:
DESCRIPTION: The first Youth Service for the year will be at the Deception Bay Church.

Please come along and worship with our youth.

Time TBA
END:VEVENT
END:VCALENDAR
