BEGIN:VCALENDAR
VERSION:2.0
PRODID:Imitheme.com
BEGIN:VEVENT
UID:20190301T173419-711596286
DTSTAMP:20190301T173419
DTSTART:20190210T173000Z
DTEND:20191208T200000Z
SUMMARY:Fellowship Dinner
LOCATION:DBUC
DESCRIPTION: Fellowship Dinner every second Sunday of the month.
Just bring a plate of food to share and enjoy the company!
END:VEVENT
END:VCALENDAR
